BEGIN:VCALENDAR
VERSION:2.0
PRODID:-//IMPACT The Money Mastery Game - ECPv6.13.2.1//NONSGML v1.0//EN
CALSCALE:GREGORIAN
METHOD:PUBLISH
X-WR-CALNAME:IMPACT The Money Mastery Game
X-ORIGINAL-URL:https://impactthemoneymasterygame.com
X-WR-CALDESC:Events for IMPACT The Money Mastery Game
REFRESH-INTERVAL;VALUE=DURATION:PT1H
X-Robots-Tag:noindex
X-PUBLISHED-TTL:PT1H
BEGIN:VTIMEZONE
TZID:America/Los_Angeles
BEGIN:DAYLIGHT
TZOFFSETFROM:-0800
TZOFFSETTO:-0700
TZNAME:PDT
DTSTART:20260308T100000
END:DAYLIGHT
BEGIN:STANDARD
TZOFFSETFROM:-0700
TZOFFSETTO:-0800
TZNAME:PST
DTSTART:20261101T090000
END:STANDARD
END:VTIMEZONE
BEGIN:VTIMEZONE
TZID:America/New_York
BEGIN:DAYLIGHT
TZOFFSETFROM:-0500
TZOFFSETTO:-0400
TZNAME:EDT
DTSTART:20260308T070000
END:DAYLIGHT
BEGIN:STANDARD
TZOFFSETFROM:-0400
TZOFFSETTO:-0500
TZNAME:EST
DTSTART:20261101T060000
END:STANDARD
END:VTIMEZONE
BEGIN:VEVENT
DTSTART;TZID=America/Los_Angeles:20260424T190000
DTEND;TZID=America/Los_Angeles:20260424T220000
DTSTAMP:20260423T064424
CREATED:20260409T192935Z
LAST-MODIFIED:20260409T193022Z
UID:5653-1777057200-1777068000@impactthemoneymasterygame.com
SUMMARY:Kickoff Celebration for The Money Mastery Movement
DESCRIPTION:Join us for an unforgettable evening celebrating the launch of The Money Mastery Movement’s mission to serve America’s Veterans and their families. Network with 300+ changemakers\, meet celebrity guests\, learn about our commitment to providing free financial education to those who served\, and discover how you can be part of this patriotic movement. FREE admission. Light appetizers and beverages provided. Cash bar available. Door prizes\, Raffles\, Auction items\, and gift bags!
URL:https://impactthemoneymasterygame.com/event/5653/
LOCATION:Hudson Grille Sandy Springs
CATEGORIES:Atlanta,The Money Mastery Movement
END:VEVENT
BEGIN:VEVENT
DTSTART;TZID=America/New_York:20260502T090000
DTEND;TZID=America/New_York:20260502T180000
DTSTAMP:20260423T064424
CREATED:20260409T193543Z
LAST-MODIFIED:20260409T193630Z
UID:5661-1777712400-1777744800@impactthemoneymasterygame.com
SUMMARY:Facilitator Certification Class
DESCRIPTION:Nothing ensures success like being empowered with the proper tools and knowledge. The IMPACT Certification program provides that in abundance: comprehensive training sessions and personalized support. Everything is created to the highest professional standards to make an IMPACT on your prospects\, players\, and everyone’s ongoing success. Through years of facilitating game plays and coaching individuals\, we’ve included the best of the best of proven materials to empower your success in achieving goals\, building prosperity and having fun! \nAttendance for all classes\, virtual and in-person\, are required to receive Certification. Advance registration and approval are required.
URL:https://impactthemoneymasterygame.com/event/facilitator-certification-class/
LOCATION:GA
CATEGORIES:Adults,Atlanta,Certification
END:VEVENT
BEGIN:VEVENT
DTSTART;TZID=America/New_York:20260503T143000
DTEND;TZID=America/New_York:20260503T173000
DTSTAMP:20260423T064424
CREATED:20260418T140035Z
LAST-MODIFIED:20260418T221300Z
UID:5616-1777818600-1777829400@impactthemoneymasterygame.com
SUMMARY:Master Your Money Workshop!
DESCRIPTION:Join us for an afternoon of networking and financial education! This workshop is like none you’ve ever attended! In this workshop\, attendees will be playing IMPACT The Money Mastery Game. This experiential game playing will make you feel like you are making\, saving\, investing\, and growing money and assets\, so you can try lots of new things with money\, but in a pretend\, practice environment\, without risking your own REAL money! Plus\, it’s lots of fun! Spend time playing\, along with an informational presentation\, and you will feel like you got months of learning and experience….or maybe years worth. 😉 \nAll participants receive a $25 Restaurant gift card!!!! \nYou will also receive a copy of “Your Guide to Great Money”\, full of great nuggets of financial information and tips. \n$15 includes all of the above AND dessert and beverage!
URL:https://impactthemoneymasterygame.com/event/master-your-money-workshop/
LOCATION:Chuy’s Fine Tex-Mex restaurant\, 118 Perimeter Center West\, Atlanta\, GA\, United States
CATEGORIES:Adults,Atlanta,Game Play,Money Mastery Workshop
END:VEVENT
END:VCALENDAR